BEGIN:VCALENDAR
VERSION:2.0
PRODID:-//wp-events-plugin.com//7.2.3.1//EN
TZID:Europe/Berlin
X-WR-TIMEZONE:Europe/Berlin
BEGIN:VEVENT
UID:130@rv-news.de
DTSTART;TZID=Europe/Berlin:20251011T200000
DTEND;TZID=Europe/Berlin:20251011T200000
DTSTAMP:20250930T151219Z
URL:https://www.rv-news.de/events/improvisionstheater-utopia/
SUMMARY:Improvisionstheater: UTOPIA
DESCRIPTION:Improvisationstheater bedeutet: Nichts ist vorbereitet\, alles 
 entsteht im Moment. Die Schauspielerinnen und Schauspieler von UTOBIA lass
 en Szenen\, Geschichten und Charaktere direkt aus den Ideen des Publikums 
 entstehen. Jede Aufführung ist damit eine Premiere – voller Humor\, Kre
 ativität und unerwarteter Wendungen.\n\n„Das Publikum entscheidet mit 
 – und wir lassen uns auf alles ein“\, so das Ensemble. Ein interaktive
 s Erlebnis\, das für jede Menge Lacher sorgt und auch zum Staunen einläd
 t. Für Fans des Improvisationstheaters und alle\, die einen besonderen Ab
 end erleben möchten\, heißt es: schnell Tickets sichern – und sich auf
  einen Abend voller Überraschungen freuen.\n\nwww.kapuzinerticketshop.tic
 ket.io
CATEGORIES:Comedy/Kabarett,Theater
LOCATION:Kapuziner Kreativzentrum\, Kapuzinerstraße 27a \, Ravensburg\, 88
 212\, Deutschland
X-APPLE-STRUCTURED-LOCATION;VALUE=URI;X-ADDRESS=Kapuzinerstraße 27a \, Rav
 ensburg\, 88212\, Deutschland;X-APPLE-RADIUS=100;X-TITLE=Kapuziner Kreativ
 zentrum:geo:0,0
END:VEVENT
BEGIN:VTIMEZONE
TZID:Europe/Berlin
X-LIC-LOCATION:Europe/Berlin
BEGIN:DAYLIGHT
DTSTART:20250330T030000
TZOFFSETFROM:+0100
TZOFFSETTO:+0200
TZNAME:CEST
END:DAYLIGHT
END:VTIMEZONE
END:VCALENDAR